BEGIN:VCALENDAR
VERSION:2.0
PRODID:-//New Zealand - ECPv6.15.9//NONSGML v1.0//EN
CALSCALE:GREGORIAN
METHOD:PUBLISH
X-ORIGINAL-URL:https://www.afs.org.nz
X-WR-CALDESC:Events for New Zealand
REFRESH-INTERVAL;VALUE=DURATION:PT1H
X-Robots-Tag:noindex
X-PUBLISHED-TTL:PT1H
BEGIN:VTIMEZONE
TZID:Pacific/Auckland
BEGIN:STANDARD
TZOFFSETFROM:+1300
TZOFFSETTO:+1200
TZNAME:NZST
DTSTART:20240406T140000
END:STANDARD
BEGIN:DAYLIGHT
TZOFFSETFROM:+1200
TZOFFSETTO:+1300
TZNAME:NZDT
DTSTART:20240928T140000
END:DAYLIGHT
BEGIN:STANDARD
TZOFFSETFROM:+1300
TZOFFSETTO:+1200
TZNAME:NZST
DTSTART:20250405T140000
END:STANDARD
BEGIN:DAYLIGHT
TZOFFSETFROM:+1200
TZOFFSETTO:+1300
TZNAME:NZDT
DTSTART:20250927T140000
END:DAYLIGHT
BEGIN:STANDARD
TZOFFSETFROM:+1300
TZOFFSETTO:+1200
TZNAME:NZST
DTSTART:20260404T140000
END:STANDARD
BEGIN:DAYLIGHT
TZOFFSETFROM:+1200
TZOFFSETTO:+1300
TZNAME:NZDT
DTSTART:20260926T140000
END:DAYLIGHT
END:VTIMEZONE
BEGIN:VEVENT
DTSTART;TZID=Pacific/Auckland:20250803T140000
DTEND;TZID=Pacific/Auckland:20250803T160000
DTSTAMP:20260420T090802
CREATED:20250624T204652Z
LAST-MODIFIED:20250802T225558Z
UID:10000060-1754229600-1754236800@www.afs.org.nz
SUMMARY:Tauranga / WBOP Community Event
DESCRIPTION:Join our AFS community as we farewell Anna and Kaylie as they head off on their AFS journey and welcome Angelica from Italy and Alejandra from Spain as they begin a wonderful time in Tauranga. \n \nPlease bring a plate of finger food to share for our afternoon tea. \nWe look forward to seeing you all there. \nPlease RSVP to info-tauranga@afs.org by 28 July.
URL:https://www.afs.org.nz/calendar/tauranga-wbop-community-event/
LOCATION:Tauranga Intermediate\, 30 Eighteenth Avenue\, Tauranga South\, Tauranga 3112\, New Zealand
END:VEVENT
END:VCALENDAR