BEGIN:VCALENDAR
VERSION:2.0
PRODID:-//New Zealand - ECPv6.15.9//NONSGML v1.0//EN
CALSCALE:GREGORIAN
METHOD:PUBLISH
X-WR-CALNAME:New Zealand
X-ORIGINAL-URL:https://www.afs.org.nz
X-WR-CALDESC:Events for New Zealand
REFRESH-INTERVAL;VALUE=DURATION:PT1H
X-Robots-Tag:noindex
X-PUBLISHED-TTL:PT1H
BEGIN:VTIMEZONE
TZID:Pacific/Auckland
BEGIN:STANDARD
TZOFFSETFROM:+1300
TZOFFSETTO:+1200
TZNAME:NZST
DTSTART:20240406T140000
END:STANDARD
BEGIN:DAYLIGHT
TZOFFSETFROM:+1200
TZOFFSETTO:+1300
TZNAME:NZDT
DTSTART:20240928T140000
END:DAYLIGHT
BEGIN:STANDARD
TZOFFSETFROM:+1300
TZOFFSETTO:+1200
TZNAME:NZST
DTSTART:20250405T140000
END:STANDARD
BEGIN:DAYLIGHT
TZOFFSETFROM:+1200
TZOFFSETTO:+1300
TZNAME:NZDT
DTSTART:20250927T140000
END:DAYLIGHT
BEGIN:STANDARD
TZOFFSETFROM:+1300
TZOFFSETTO:+1200
TZNAME:NZST
DTSTART:20260404T140000
END:STANDARD
BEGIN:DAYLIGHT
TZOFFSETFROM:+1200
TZOFFSETTO:+1300
TZNAME:NZDT
DTSTART:20260926T140000
END:DAYLIGHT
END:VTIMEZONE
BEGIN:VEVENT
DTSTART;VALUE=DATE:20250615
DTEND;VALUE=DATE:20250623
DTSTAMP:20260420T032006
CREATED:20250524T135344Z
LAST-MODIFIED:20250619T050148Z
UID:10000045-1749945600-1750636799@www.afs.org.nz
SUMMARY:National Volunteer Week
DESCRIPTION:National Volunteer Week | Tūao Aotearoa Volunteering New Zealand
URL:https://www.afs.org.nz/calendar/national-volunteer-week/
END:VEVENT
BEGIN:VEVENT
DTSTART;TZID=Pacific/Auckland:20250605T183000
DTEND;TZID=Pacific/Auckland:20250605T193000
DTSTAMP:20260420T032006
CREATED:20250520T181009Z
LAST-MODIFIED:20250604T053146Z
UID:10000044-1749148200-1749151800@www.afs.org.nz
SUMMARY:AFS Hamilton Community Event
DESCRIPTION:AFS Hamilton Community EventJoin us for an evening of fun\, AFS stories and community as we share some kai and connect with our wonderful AF whānau.Please bring a salad or dessert to share. AFS will provide meat and rolls for everyone.Please RSVP to: jay.wells@afs.org
URL:https://www.afs.org.nz/calendar/afs-hamilton-community-event/
LOCATION:Western Community Centre\, 46 Hyde Avenue\, Nawton\, Hamilton 3200\, New Zealand
END:VEVENT
BEGIN:VEVENT
DTSTART;TZID=Pacific/Auckland:20250605T173000
DTEND;TZID=Pacific/Auckland:20250605T183000
DTSTAMP:20260420T032006
CREATED:20250520T181008Z
LAST-MODIFIED:20250604T053145Z
UID:10000043-1749144600-1749148200@www.afs.org.nz
SUMMARY:AFS Hamilton Info Session
DESCRIPTION:AFS Info Session\nJoin our info session for students and families to find out more about our programmes and scholarships.
URL:https://www.afs.org.nz/calendar/afs-hamilton-info-session/
LOCATION:Western Community Centre\, 46 Hyde Avenue\, Nawton\, Hamilton 3200\, New Zealand
END:VEVENT
END:VCALENDAR