BEGIN:VCALENDAR
VERSION:2.0
PRODID:-//New Zealand - ECPv6.15.9//NONSGML v1.0//EN
CALSCALE:GREGORIAN
METHOD:PUBLISH
X-ORIGINAL-URL:https://www.afs.org.nz
X-WR-CALDESC:Events for New Zealand
REFRESH-INTERVAL;VALUE=DURATION:PT1H
X-Robots-Tag:noindex
X-PUBLISHED-TTL:PT1H
BEGIN:VTIMEZONE
TZID:Pacific/Auckland
BEGIN:STANDARD
TZOFFSETFROM:+1300
TZOFFSETTO:+1200
TZNAME:NZST
DTSTART:20240406T140000
END:STANDARD
BEGIN:DAYLIGHT
TZOFFSETFROM:+1200
TZOFFSETTO:+1300
TZNAME:NZDT
DTSTART:20240928T140000
END:DAYLIGHT
BEGIN:STANDARD
TZOFFSETFROM:+1300
TZOFFSETTO:+1200
TZNAME:NZST
DTSTART:20250405T140000
END:STANDARD
BEGIN:DAYLIGHT
TZOFFSETFROM:+1200
TZOFFSETTO:+1300
TZNAME:NZDT
DTSTART:20250927T140000
END:DAYLIGHT
BEGIN:STANDARD
TZOFFSETFROM:+1300
TZOFFSETTO:+1200
TZNAME:NZST
DTSTART:20260404T140000
END:STANDARD
BEGIN:DAYLIGHT
TZOFFSETFROM:+1200
TZOFFSETTO:+1300
TZNAME:NZDT
DTSTART:20260926T140000
END:DAYLIGHT
BEGIN:STANDARD
TZOFFSETFROM:+1300
TZOFFSETTO:+1200
TZNAME:NZST
DTSTART:20270403T140000
END:STANDARD
BEGIN:DAYLIGHT
TZOFFSETFROM:+1200
TZOFFSETTO:+1300
TZNAME:NZDT
DTSTART:20270925T140000
END:DAYLIGHT
END:VTIMEZONE
BEGIN:VEVENT
DTSTART;TZID=Pacific/Auckland:20260302T183000
DTEND;TZID=Pacific/Auckland:20260302T203000
DTSTAMP:20260420T123427
CREATED:20251209T175219Z
LAST-MODIFIED:20260224T061457Z
UID:10000090-1772476200-1772483400@www.afs.org.nz
SUMMARY:Host Student Post Arrival Zoom
DESCRIPTION:Calendly Link for Students to RSVP to: https://calendly.com/info-newzealand/post-arrival-host-student-orientation
URL:https://www.afs.org.nz/calendar/host-student-post-arrival-zoom/
ORGANIZER;CN="amber.bevan@afs.org":MAILTO:amber.bevan@afs.org
END:VEVENT
BEGIN:VEVENT
DTSTART;VALUE=DATE:20260201
DTEND;VALUE=DATE:20260202
DTSTAMP:20260420T123427
CREATED:20260121T215222Z
LAST-MODIFIED:20260130T165139Z
UID:10000098-1769904000-1769990399@www.afs.org.nz
SUMMARY:Scholarships Open
DESCRIPTION:
URL:https://www.afs.org.nz/calendar/scholarships-open-2/
ORGANIZER;CN="amber.bevan@afs.org":MAILTO:amber.bevan@afs.org
END:VEVENT
BEGIN:VEVENT
DTSTART;VALUE=DATE:20260201
DTEND;VALUE=DATE:20260202
DTSTAMP:20260420T123427
CREATED:20251112T181902Z
LAST-MODIFIED:20260201T134133Z
UID:10000087-1769904000-1769990399@www.afs.org.nz
SUMMARY:Scholarships Open
DESCRIPTION:
URL:https://www.afs.org.nz/calendar/scholarships-open/
ORGANIZER;CN="amber.bevan@afs.org":MAILTO:amber.bevan@afs.org
END:VEVENT
BEGIN:VEVENT
DTSTART;VALUE=DATE:20260116
DTEND;VALUE=DATE:20260119
DTSTAMP:20260420T123427
CREATED:20251024T113421Z
LAST-MODIFIED:20260111T100540Z
UID:10000081-1768521600-1768780799@www.afs.org.nz
SUMMARY:Arrival Orientation In Person
DESCRIPTION:This in person orientation is for hosted students arriving on their Semester and Year Students for Flagship and Global Choice – designed to welcome students to their host country\, share logistical information and contact details about the local AFS organisation. \nIf you would like to volunteer for this orientation email amber.bevan@afs.org Training session provided
URL:https://www.afs.org.nz/calendar/arrival-orientation-in-person/
ORGANIZER;CN="amber.bevan@afs.org":MAILTO:amber.bevan@afs.org
END:VEVENT
BEGIN:VEVENT
DTSTART;TZID=Pacific/Auckland:20251217T190000
DTEND;TZID=Pacific/Auckland:20251217T210000
DTSTAMP:20260420T123427
CREATED:20251109T200212Z
LAST-MODIFIED:20251212T062751Z
UID:10000085-1765998000-1766005200@www.afs.org.nz
SUMMARY:Host Family Orientation
DESCRIPTION:Link for Hosting Families to RSVP: https://calendly.com/info-newzealand/host-family-orientation
URL:https://www.afs.org.nz/calendar/host-family-orientation-2/
ORGANIZER;CN="amber.bevan@afs.org":MAILTO:amber.bevan@afs.org
END:VEVENT
BEGIN:VEVENT
DTSTART;TZID=Pacific/Auckland:20251201T190000
DTEND;TZID=Pacific/Auckland:20251201T210000
DTSTAMP:20260420T123427
CREATED:20251109T200159Z
LAST-MODIFIED:20251201T060158Z
UID:10000084-1764615600-1764622800@www.afs.org.nz
SUMMARY:Host Family Orientation
DESCRIPTION:Link for Host Families to RSVP: https://calendly.com/info-newzealand/host-family-orientation
URL:https://www.afs.org.nz/calendar/host-family-orientation/
ORGANIZER;CN="amber.bevan@afs.org":MAILTO:amber.bevan@afs.org
END:VEVENT
BEGIN:VEVENT
DTSTART;VALUE=DATE:20250607
DTEND;VALUE=DATE:20250608
DTSTAMP:20260420T123428
CREATED:20250514T203206Z
LAST-MODIFIED:20250607T140950Z
UID:10000042-1749254400-1749340799@www.afs.org.nz
SUMMARY:2026 Student Applications Open
DESCRIPTION:Sending Students are able to apply for 2026 programmes!  \nTell your local community… Scholarships available for all programmesStudy Abroad in 2026
URL:https://www.afs.org.nz/calendar/2026-student-applications-open/
ORGANIZER;CN="amber.bevan@afs.org":MAILTO:amber.bevan@afs.org
END:VEVENT
END:VCALENDAR