BEGIN:VCALENDAR
VERSION:2.0
PRODID:-//New Zealand - ECPv6.15.9//NONSGML v1.0//EN
CALSCALE:GREGORIAN
METHOD:PUBLISH
X-WR-CALNAME:New Zealand
X-ORIGINAL-URL:https://www.afs.org.nz
X-WR-CALDESC:Events for New Zealand
REFRESH-INTERVAL;VALUE=DURATION:PT1H
X-Robots-Tag:noindex
X-PUBLISHED-TTL:PT1H
BEGIN:VTIMEZONE
TZID:Pacific/Auckland
BEGIN:STANDARD
TZOFFSETFROM:+1300
TZOFFSETTO:+1200
TZNAME:NZST
DTSTART:20250405T140000
END:STANDARD
BEGIN:DAYLIGHT
TZOFFSETFROM:+1200
TZOFFSETTO:+1300
TZNAME:NZDT
DTSTART:20250927T140000
END:DAYLIGHT
BEGIN:STANDARD
TZOFFSETFROM:+1300
TZOFFSETTO:+1200
TZNAME:NZST
DTSTART:20260404T140000
END:STANDARD
BEGIN:DAYLIGHT
TZOFFSETFROM:+1200
TZOFFSETTO:+1300
TZNAME:NZDT
DTSTART:20260926T140000
END:DAYLIGHT
BEGIN:STANDARD
TZOFFSETFROM:+1300
TZOFFSETTO:+1200
TZNAME:NZST
DTSTART:20270403T140000
END:STANDARD
BEGIN:DAYLIGHT
TZOFFSETFROM:+1200
TZOFFSETTO:+1300
TZNAME:NZDT
DTSTART:20270925T140000
END:DAYLIGHT
END:VTIMEZONE
BEGIN:VEVENT
DTSTART;TZID=Pacific/Auckland:20260523T180000
DTEND;TZID=Pacific/Auckland:20260523T213000
DTSTAMP:20260420T122006
CREATED:20260224T061514Z
LAST-MODIFIED:20260411T194251Z
UID:10000104-1779559200-1779571800@www.afs.org.nz
SUMMARY:AFS Whānau Event
DESCRIPTION:It’s been way too long since we’ve had a big social event for all the AFS Whānau to reconnect\, so here it is!\nWe’ll get together\, enjoy good company\, have a meal and a bit of a party.
URL:https://www.afs.org.nz/calendar/afs-whanau-event/
LOCATION:Milford Cruising Club Inc\, 24 Craig Road\, Milford\, Auckland 0620\, New Zealand
END:VEVENT
BEGIN:VEVENT
DTSTART;TZID=Pacific/Auckland:20260524T113000
DTEND;TZID=Pacific/Auckland:20260524T143000
DTSTAMP:20260420T122006
CREATED:20260224T061514Z
LAST-MODIFIED:20260411T194252Z
UID:10000105-1779622200-1779633000@www.afs.org.nz
SUMMARY:AGM
DESCRIPTION:All members are welcome to attend in person or on Zoom.\nInformation will be sent to all members by email.
URL:https://www.afs.org.nz/calendar/agm/
LOCATION:The Ponsonby Community Centre\, Community Centre 20 Ponsonby Terrace\, Ponsonby\, Auckland 1011\, New Zealand
END:VEVENT
END:VCALENDAR