BEGIN:VCALENDAR
VERSION:2.0
PRODID:-//New Zealand - ECPv6.15.9//NONSGML v1.0//EN
CALSCALE:GREGORIAN
METHOD:PUBLISH
X-ORIGINAL-URL:https://www.afs.org.nz
X-WR-CALDESC:Events for New Zealand
REFRESH-INTERVAL;VALUE=DURATION:PT1H
X-Robots-Tag:noindex
X-PUBLISHED-TTL:PT1H
BEGIN:VTIMEZONE
TZID:Pacific/Auckland
BEGIN:STANDARD
TZOFFSETFROM:+1300
TZOFFSETTO:+1200
TZNAME:NZST
DTSTART:20250405T140000
END:STANDARD
BEGIN:DAYLIGHT
TZOFFSETFROM:+1200
TZOFFSETTO:+1300
TZNAME:NZDT
DTSTART:20250927T140000
END:DAYLIGHT
BEGIN:STANDARD
TZOFFSETFROM:+1300
TZOFFSETTO:+1200
TZNAME:NZST
DTSTART:20260404T140000
END:STANDARD
BEGIN:DAYLIGHT
TZOFFSETFROM:+1200
TZOFFSETTO:+1300
TZNAME:NZDT
DTSTART:20260926T140000
END:DAYLIGHT
BEGIN:STANDARD
TZOFFSETFROM:+1300
TZOFFSETTO:+1200
TZNAME:NZST
DTSTART:20270403T140000
END:STANDARD
BEGIN:DAYLIGHT
TZOFFSETFROM:+1200
TZOFFSETTO:+1300
TZNAME:NZDT
DTSTART:20270925T140000
END:DAYLIGHT
END:VTIMEZONE
BEGIN:VEVENT
DTSTART;TZID=Pacific/Auckland:20260309T190000
DTEND;TZID=Pacific/Auckland:20260309T200000
DTSTAMP:20260420T123428
CREATED:20260224T061458Z
LAST-MODIFIED:20260303T160925Z
UID:10000101-1773082800-1773086400@www.afs.org.nz
SUMMARY:School Presentation Volunteer Training
DESCRIPTION:This is a 45-minute training and all are invited – no previous experience required. \n– Refresh your skills if you presented in the past\,– see the updated 2026 presentation\,– learn how you too can present to your school or schools in your area\,– and what actions you can take to assist us with setting up school appointments. \nPlease register here: School Presentation Training
URL:https://www.afs.org.nz/calendar/school-presentation-volunteer-training/
END:VEVENT
BEGIN:VEVENT
DTSTART;VALUE=DATE:20260315
DTEND;VALUE=DATE:20260316
DTSTAMP:20260420T123428
CREATED:20251224T000907Z
LAST-MODIFIED:20260313T080710Z
UID:10000091-1773532800-1773619199@www.afs.org.nz
SUMMARY:Warbirds on Parade
DESCRIPTION:See the historic AFS Ambulance at Warbirds on Parade: \nWarbirds on Parade 2026 – New Zealand Warbirds Association Inc
URL:https://www.afs.org.nz/calendar/warbirds-on-parade/
END:VEVENT
END:VCALENDAR