BEGIN:VCALENDAR
VERSION:2.0
PRODID:-//New Zealand - ECPv6.15.9//NONSGML v1.0//EN
CALSCALE:GREGORIAN
METHOD:PUBLISH
X-WR-CALNAME:New Zealand
X-ORIGINAL-URL:https://www.afs.org.nz
X-WR-CALDESC:Events for New Zealand
REFRESH-INTERVAL;VALUE=DURATION:PT1H
X-Robots-Tag:noindex
X-PUBLISHED-TTL:PT1H
BEGIN:VTIMEZONE
TZID:Pacific/Auckland
BEGIN:STANDARD
TZOFFSETFROM:+1300
TZOFFSETTO:+1200
TZNAME:NZST
DTSTART:20250405T140000
END:STANDARD
BEGIN:DAYLIGHT
TZOFFSETFROM:+1200
TZOFFSETTO:+1300
TZNAME:NZDT
DTSTART:20250927T140000
END:DAYLIGHT
BEGIN:STANDARD
TZOFFSETFROM:+1300
TZOFFSETTO:+1200
TZNAME:NZST
DTSTART:20260404T140000
END:STANDARD
BEGIN:DAYLIGHT
TZOFFSETFROM:+1200
TZOFFSETTO:+1300
TZNAME:NZDT
DTSTART:20260926T140000
END:DAYLIGHT
BEGIN:STANDARD
TZOFFSETFROM:+1300
TZOFFSETTO:+1200
TZNAME:NZST
DTSTART:20270403T140000
END:STANDARD
BEGIN:DAYLIGHT
TZOFFSETFROM:+1200
TZOFFSETTO:+1300
TZNAME:NZDT
DTSTART:20270925T140000
END:DAYLIGHT
END:VTIMEZONE
BEGIN:VEVENT
DTSTART;VALUE=DATE:20260126
DTEND;VALUE=DATE:20260127
DTSTAMP:20260420T124716
CREATED:20251122T031125Z
LAST-MODIFIED:20260121T215221Z
UID:10000088-1769385600-1769471999@www.afs.org.nz
SUMMARY:Auckland Anniversary Day
DESCRIPTION:
URL:https://www.afs.org.nz/calendar/auckland-anniversary-day/
END:VEVENT
BEGIN:VEVENT
DTSTART;VALUE=DATE:20260201
DTEND;VALUE=DATE:20260202
DTSTAMP:20260420T124716
CREATED:20251112T181902Z
LAST-MODIFIED:20260201T134133Z
UID:10000087-1769904000-1769990399@www.afs.org.nz
SUMMARY:Scholarships Open
DESCRIPTION:
URL:https://www.afs.org.nz/calendar/scholarships-open/
ORGANIZER;CN="amber.bevan@afs.org":MAILTO:amber.bevan@afs.org
END:VEVENT
BEGIN:VEVENT
DTSTART;VALUE=DATE:20260201
DTEND;VALUE=DATE:20260202
DTSTAMP:20260420T124716
CREATED:20260121T215222Z
LAST-MODIFIED:20260130T165139Z
UID:10000098-1769904000-1769990399@www.afs.org.nz
SUMMARY:Scholarships Open
DESCRIPTION:
URL:https://www.afs.org.nz/calendar/scholarships-open-2/
ORGANIZER;CN="amber.bevan@afs.org":MAILTO:amber.bevan@afs.org
END:VEVENT
END:VCALENDAR