BEGIN:VCALENDAR
VERSION:2.0
PRODID:-//New Zealand - ECPv6.15.9//NONSGML v1.0//EN
CALSCALE:GREGORIAN
METHOD:PUBLISH
X-ORIGINAL-URL:https://www.afs.org.nz
X-WR-CALDESC:Events for New Zealand
REFRESH-INTERVAL;VALUE=DURATION:PT1H
X-Robots-Tag:noindex
X-PUBLISHED-TTL:PT1H
BEGIN:VTIMEZONE
TZID:Pacific/Auckland
BEGIN:STANDARD
TZOFFSETFROM:+1300
TZOFFSETTO:+1200
TZNAME:NZST
DTSTART:20240406T140000
END:STANDARD
BEGIN:DAYLIGHT
TZOFFSETFROM:+1200
TZOFFSETTO:+1300
TZNAME:NZDT
DTSTART:20240928T140000
END:DAYLIGHT
BEGIN:STANDARD
TZOFFSETFROM:+1300
TZOFFSETTO:+1200
TZNAME:NZST
DTSTART:20250405T140000
END:STANDARD
BEGIN:DAYLIGHT
TZOFFSETFROM:+1200
TZOFFSETTO:+1300
TZNAME:NZDT
DTSTART:20250927T140000
END:DAYLIGHT
BEGIN:STANDARD
TZOFFSETFROM:+1300
TZOFFSETTO:+1200
TZNAME:NZST
DTSTART:20260404T140000
END:STANDARD
BEGIN:DAYLIGHT
TZOFFSETFROM:+1200
TZOFFSETTO:+1300
TZNAME:NZDT
DTSTART:20260926T140000
END:DAYLIGHT
END:VTIMEZONE
BEGIN:VEVENT
DTSTART;TZID=Pacific/Auckland:20251123T160000
DTEND;TZID=Pacific/Auckland:20251123T180000
DTSTAMP:20260421T004958
CREATED:20250825T010340Z
LAST-MODIFIED:20251122T031111Z
UID:10000072-1763913600-1763920800@www.afs.org.nz
SUMMARY:Mid Stay Orientation
DESCRIPTION:This is a zoom orientation for our hosted students on a year programme\, to provide an opportunity for students to evaluate their exchange experiences\, reflect on personal growth\, and address cultural and adaptation challenges they may be encountering.  \nIf you would like to volunteer for this orientation from the comfort of your home email amber.bevan@afs.org Training session provided
URL:https://www.afs.org.nz/calendar/mid-stay-orientation/
END:VEVENT
END:VCALENDAR