BEGIN:VCALENDAR
VERSION:2.0
PRODID:-//New Zealand - ECPv6.15.9//NONSGML v1.0//EN
CALSCALE:GREGORIAN
METHOD:PUBLISH
X-ORIGINAL-URL:https://www.afs.org.nz
X-WR-CALDESC:Events for New Zealand
REFRESH-INTERVAL;VALUE=DURATION:PT1H
X-Robots-Tag:noindex
X-PUBLISHED-TTL:PT1H
BEGIN:VTIMEZONE
TZID:Pacific/Auckland
BEGIN:STANDARD
TZOFFSETFROM:+1300
TZOFFSETTO:+1200
TZNAME:NZST
DTSTART:20240406T140000
END:STANDARD
BEGIN:DAYLIGHT
TZOFFSETFROM:+1200
TZOFFSETTO:+1300
TZNAME:NZDT
DTSTART:20240928T140000
END:DAYLIGHT
BEGIN:STANDARD
TZOFFSETFROM:+1300
TZOFFSETTO:+1200
TZNAME:NZST
DTSTART:20250405T140000
END:STANDARD
BEGIN:DAYLIGHT
TZOFFSETFROM:+1200
TZOFFSETTO:+1300
TZNAME:NZDT
DTSTART:20250927T140000
END:DAYLIGHT
BEGIN:STANDARD
TZOFFSETFROM:+1300
TZOFFSETTO:+1200
TZNAME:NZST
DTSTART:20260404T140000
END:STANDARD
BEGIN:DAYLIGHT
TZOFFSETFROM:+1200
TZOFFSETTO:+1300
TZNAME:NZDT
DTSTART:20260926T140000
END:DAYLIGHT
END:VTIMEZONE
BEGIN:VEVENT
DTSTART;TZID=Pacific/Auckland:20250819T163000
DTEND;TZID=Pacific/Auckland:20250819T183000
DTSTAMP:20260421T122453
CREATED:20250513T153353Z
LAST-MODIFIED:20250819T003823Z
UID:10000041-1755621000-1755628200@www.afs.org.nz
SUMMARY:Post Arrival Orientation Zoom
DESCRIPTION:This zoom orientation is to explore personal goals\, cultural differences and adaptation issues they may face and identify coping strategies and mechanisms to support themIf you would like to volunteer for this orientation email amber.bevan@afs.org Training session provided
URL:https://www.afs.org.nz/calendar/post-arrival-orientation-zoom/
END:VEVENT
BEGIN:VEVENT
DTSTART;TZID=Pacific/Auckland:20250824T100000
DTEND;TZID=Pacific/Auckland:20250824T120000
DTSTAMP:20260421T122453
CREATED:20250526T072918Z
LAST-MODIFIED:20250823T151604Z
UID:10000046-1756029600-1756036800@www.afs.org.nz
SUMMARY:Re-Orientation AKL
DESCRIPTION:This orientation is in person and before the Round the World event and is for our sending students who have come home recently\, to unpack their experiences and reflect. \nIf you would like to attend this re-orientation as a recent returnee please let amber know – amber.bevan@afs.orgIf you would like to volunteer for this orientation email amber.bevan@afs.org Training session provided
URL:https://www.afs.org.nz/calendar/re-orientation-akl/
END:VEVENT
BEGIN:VEVENT
DTSTART;TZID=Pacific/Auckland:20250824T140000
DTEND;TZID=Pacific/Auckland:20250824T180000
DTSTAMP:20260421T122453
CREATED:20250526T072918Z
LAST-MODIFIED:20250823T151604Z
UID:10000047-1756044000-1756058400@www.afs.org.nz
SUMMARY:Round the World student exchange expo
DESCRIPTION:
URL:https://www.afs.org.nz/calendar/round-the-world-student-exchange-expo/
LOCATION:Taitamariki Hall\, Auburn Reserve 8 Auburn Street\, Takapuna\, Auckland 0622\, New Zealand
END:VEVENT
END:VCALENDAR