BEGIN:VCALENDAR
VERSION:2.0
PRODID:-//New Zealand - ECPv6.15.9//NONSGML v1.0//EN
CALSCALE:GREGORIAN
METHOD:PUBLISH
X-ORIGINAL-URL:https://www.afs.org.nz
X-WR-CALDESC:Events for New Zealand
REFRESH-INTERVAL;VALUE=DURATION:PT1H
X-Robots-Tag:noindex
X-PUBLISHED-TTL:PT1H
BEGIN:VTIMEZONE
TZID:Pacific/Auckland
BEGIN:STANDARD
TZOFFSETFROM:+1300
TZOFFSETTO:+1200
TZNAME:NZST
DTSTART:20240406T140000
END:STANDARD
BEGIN:DAYLIGHT
TZOFFSETFROM:+1200
TZOFFSETTO:+1300
TZNAME:NZDT
DTSTART:20240928T140000
END:DAYLIGHT
BEGIN:STANDARD
TZOFFSETFROM:+1300
TZOFFSETTO:+1200
TZNAME:NZST
DTSTART:20250405T140000
END:STANDARD
BEGIN:DAYLIGHT
TZOFFSETFROM:+1200
TZOFFSETTO:+1300
TZNAME:NZDT
DTSTART:20250927T140000
END:DAYLIGHT
BEGIN:STANDARD
TZOFFSETFROM:+1300
TZOFFSETTO:+1200
TZNAME:NZST
DTSTART:20260404T140000
END:STANDARD
BEGIN:DAYLIGHT
TZOFFSETFROM:+1200
TZOFFSETTO:+1300
TZNAME:NZDT
DTSTART:20260926T140000
END:DAYLIGHT
END:VTIMEZONE
BEGIN:VEVENT
DTSTART;VALUE=DATE:20250623
DTEND;VALUE=DATE:20250628
DTSTAMP:20260422T101258
CREATED:20250329T000023Z
LAST-MODIFIED:20250627T070233Z
UID:10000018-1750636800-1751068799@www.afs.org.nz
SUMMARY:Christchurch Blitz
DESCRIPTION:The AFS NZ national office team will be in Christchurch to visit schools and connect with volunteers. \nIf you are in the Christchurch area\, we’d love to see you! \nPlease contact krisca.gould@afs.org
URL:https://www.afs.org.nz/calendar/christchurch-blitz/
END:VEVENT
BEGIN:VEVENT
DTSTART;TZID=Pacific/Auckland:20250623T183000
DTEND;TZID=Pacific/Auckland:20250623T203000
DTSTAMP:20260422T101258
CREATED:20250416T133509Z
LAST-MODIFIED:20250623T063315Z
UID:10000032-1750703400-1750710600@www.afs.org.nz
SUMMARY:Sending Family Orientation Zoom
DESCRIPTION:This online orientation is to equip sending families to help their children face the intercultural challenges of their high school study abroad programme in collaboration with AFS at both the sending and hosting destinations.If you would like to volunteer for this orientation email amber.bevan@afs.org Training session provided
URL:https://www.afs.org.nz/calendar/sending-family-orientation-zoom/
END:VEVENT
BEGIN:VEVENT
DTSTART;TZID=Pacific/Auckland:20250626T173000
DTEND;TZID=Pacific/Auckland:20250626T183000
DTSTAMP:20260422T101258
CREATED:20250605T085935Z
LAST-MODIFIED:20250626T060754Z
UID:10000051-1750959000-1750962600@www.afs.org.nz
SUMMARY:Christchurch Info Session
DESCRIPTION:AFS Info Session\nJoin our info session for students and families to find out more about our programmes and scholarships.\nSt Andrew’s College\, Staff Room\, Strowan House
URL:https://www.afs.org.nz/calendar/christchurch-info-session/
LOCATION:St Andrew’s College\, 347 Papanui Road\, Strowan\, Christchurch 8052\, New Zealand
END:VEVENT
BEGIN:VEVENT
DTSTART;TZID=Pacific/Auckland:20250626T183000
DTEND;TZID=Pacific/Auckland:20250626T193000
DTSTAMP:20260422T101258
CREATED:20250605T085936Z
LAST-MODIFIED:20250626T060753Z
UID:10000052-1750962600-1750966200@www.afs.org.nz
SUMMARY:Christchurch Community Event
DESCRIPTION:Join us for an evening of fun\, AFS stories and community\, as we share some\n kai and connect with our wonderful AFS whānau.\nYour contribution to the event would be greatly appreciated.\nPlease bring some baking/sweet treats to share – there’ll be a competition for the best dessert!\nPlease RSVP to jay.wells@afs.org\nSt Andrew’s College\, Staff Room\, Strowan House
URL:https://www.afs.org.nz/calendar/christchurch-community-event/
LOCATION:St Andrew’s College\, 347 Papanui Road\, Strowan\, Christchurch 8052\, New Zealand
END:VEVENT
BEGIN:VEVENT
DTSTART;VALUE=DATE:20250628
DTEND;VALUE=DATE:20250630
DTSTAMP:20260422T101258
CREATED:20250416T133510Z
LAST-MODIFIED:20250628T130253Z
UID:10000033-1751068800-1751241599@www.afs.org.nz
SUMMARY:Arrival Orientation In Person
DESCRIPTION:Trimester Students for Flagship programme\, designed to welcome students to their host country\, share logistical information and contact details about the local AFS organisation. \nIf you would like to volunteer for this orientation email amber.bevan@afs.org Training session provided
URL:https://www.afs.org.nz/calendar/hosted-student-arrival-orientation-in-person/
END:VEVENT
BEGIN:VEVENT
DTSTART;VALUE=DATE:20250628
DTEND;VALUE=DATE:20250701
DTSTAMP:20260422T101258
CREATED:20250405T013545Z
LAST-MODIFIED:20250415T125254Z
UID:10000020-1751068800-1751327999@www.afs.org.nz
SUMMARY:Departure camp (SMscSH25\, SMswSH25\, YPswNH24) & Trimester Arrival Camp
DESCRIPTION:
URL:https://www.afs.org.nz/calendar/departure-camp-smscsh25-smswsh25-ypswnh24-trimester-arrival-camp/
END:VEVENT
BEGIN:VEVENT
DTSTART;VALUE=DATE:20250628
DTEND;VALUE=DATE:20250714
DTSTAMP:20260422T101258
CREATED:20250405T013544Z
LAST-MODIFIED:20250712T133937Z
UID:10000019-1751068800-1752451199@www.afs.org.nz
SUMMARY:July School Holidays
DESCRIPTION:
URL:https://www.afs.org.nz/calendar/july-school-holidays/
END:VEVENT
BEGIN:VEVENT
DTSTART;VALUE=DATE:20250629
DTEND;VALUE=DATE:20250701
DTSTAMP:20260422T101258
CREATED:20250416T133511Z
LAST-MODIFIED:20250630T172231Z
UID:10000035-1751155200-1751327999@www.afs.org.nz
SUMMARY:End of Stay Orientation In Person
DESCRIPTION:This in person orientation is to help students reflect on their intercultural exchange experience\, and prepare for a smooth transition back home.If you would like to volunteer for this orientation email amber.bevan@afs.org Training session provided
URL:https://www.afs.org.nz/calendar/hosted-student-end-of-stay-orientation-in-person/
END:VEVENT
BEGIN:VEVENT
DTSTART;VALUE=DATE:20250629
DTEND;VALUE=DATE:20250702
DTSTAMP:20260422T101258
CREATED:20250416T133510Z
LAST-MODIFIED:20250701T212152Z
UID:10000034-1751155200-1751414399@www.afs.org.nz
SUMMARY:Pre Departure Orientation In Person
DESCRIPTION:This orientation is to prepare sending students for their upcoming travel abroad\, intercultural experience\, and development as active global citizens.If you would like to volunteer for this orientation email amber.bevan@afs.org Training session provided
URL:https://www.afs.org.nz/calendar/sending-student-pre-departure-orientation-in-person/
END:VEVENT
BEGIN:VEVENT
DTSTART;TZID=Pacific/Auckland:20250629T173000
DTEND;TZID=Pacific/Auckland:20250629T193000
DTSTAMP:20260422T101258
CREATED:20250604T053200Z
LAST-MODIFIED:20250628T130253Z
UID:10000050-1751218200-1751225400@www.afs.org.nz
SUMMARY:Auckland Community Event
DESCRIPTION:Join us for an evening of fun\, AFS stories and community\, as we share some kai and connect with our wonderful AFS whānau.\nYour contribution to the event would be greatly appreciated\n– please bring a plate to share.\n(Note: Finger food only\, no kitchen facility on site.)\nPlease RSVP to jay.wells@afs.org
URL:https://www.afs.org.nz/calendar/auckland-community-event/
LOCATION:Auckland Grammar Tibbs House\, 87 Mountain Road\, Epsom\, Auckland 1023\, New Zealand
END:VEVENT
END:VCALENDAR