BEGIN:VCALENDAR
VERSION:2.0
PRODID:-//New Zealand - ECPv6.15.9//NONSGML v1.0//EN
CALSCALE:GREGORIAN
METHOD:PUBLISH
X-ORIGINAL-URL:https://www.afs.org.nz
X-WR-CALDESC:Events for New Zealand
REFRESH-INTERVAL;VALUE=DURATION:PT1H
X-Robots-Tag:noindex
X-PUBLISHED-TTL:PT1H
BEGIN:VTIMEZONE
TZID:Pacific/Auckland
BEGIN:STANDARD
TZOFFSETFROM:+1300
TZOFFSETTO:+1200
TZNAME:NZST
DTSTART:20240406T140000
END:STANDARD
BEGIN:DAYLIGHT
TZOFFSETFROM:+1200
TZOFFSETTO:+1300
TZNAME:NZDT
DTSTART:20240928T140000
END:DAYLIGHT
BEGIN:STANDARD
TZOFFSETFROM:+1300
TZOFFSETTO:+1200
TZNAME:NZST
DTSTART:20250405T140000
END:STANDARD
BEGIN:DAYLIGHT
TZOFFSETFROM:+1200
TZOFFSETTO:+1300
TZNAME:NZDT
DTSTART:20250927T140000
END:DAYLIGHT
BEGIN:STANDARD
TZOFFSETFROM:+1300
TZOFFSETTO:+1200
TZNAME:NZST
DTSTART:20260404T140000
END:STANDARD
BEGIN:DAYLIGHT
TZOFFSETFROM:+1200
TZOFFSETTO:+1300
TZNAME:NZDT
DTSTART:20260926T140000
END:DAYLIGHT
END:VTIMEZONE
BEGIN:VEVENT
DTSTART;TZID=Pacific/Auckland:20250611T093000
DTEND;TZID=Pacific/Auckland:20250611T183000
DTSTAMP:20260422T070538
CREATED:20250329T000023Z
LAST-MODIFIED:20250415T125253Z
UID:10000016-1749634200-1749666600@www.afs.org.nz
SUMMARY:Howick Careers Expo
DESCRIPTION: East Website\, 9:30am-6:30pm 
URL:https://www.afs.org.nz/calendar/howick-careers-expo/
END:VEVENT
BEGIN:VEVENT
DTSTART;TZID=Pacific/Auckland:20250614T160000
DTEND;TZID=Pacific/Auckland:20250614T180000
DTSTAMP:20260422T070538
CREATED:20250416T133508Z
LAST-MODIFIED:20250505T162448Z
UID:10000030-1749916800-1749924000@www.afs.org.nz
SUMMARY:Mid Stay Orientation
DESCRIPTION:This online orientation is for our Hosted Students on year programmes\, for students to evaluate their exchange experiences\, reflect on personal growth\, and address cultural and adaptation challenges they may be encountering.If you would like to volunteer for this orientation email amber.bevan@afs.org Training session provided
URL:https://www.afs.org.nz/calendar/hosted-student-online-mid-stay-orientation/
END:VEVENT
BEGIN:VEVENT
DTSTART;VALUE=DATE:20250615
DTEND;VALUE=DATE:20250623
DTSTAMP:20260422T070538
CREATED:20250524T135344Z
LAST-MODIFIED:20250619T050148Z
UID:10000045-1749945600-1750636799@www.afs.org.nz
SUMMARY:National Volunteer Week
DESCRIPTION:National Volunteer Week | Tūao Aotearoa Volunteering New Zealand
URL:https://www.afs.org.nz/calendar/national-volunteer-week/
END:VEVENT
END:VCALENDAR