BEGIN:VCALENDAR
VERSION:2.0
PRODID:-//New Zealand - ECPv6.15.9//NONSGML v1.0//EN
CALSCALE:GREGORIAN
METHOD:PUBLISH
X-WR-CALNAME:New Zealand
X-ORIGINAL-URL:https://www.afs.org.nz
X-WR-CALDESC:Events for New Zealand
REFRESH-INTERVAL;VALUE=DURATION:PT1H
X-Robots-Tag:noindex
X-PUBLISHED-TTL:PT1H
BEGIN:VTIMEZONE
TZID:Pacific/Auckland
BEGIN:STANDARD
TZOFFSETFROM:+1300
TZOFFSETTO:+1200
TZNAME:NZST
DTSTART:20240406T140000
END:STANDARD
BEGIN:DAYLIGHT
TZOFFSETFROM:+1200
TZOFFSETTO:+1300
TZNAME:NZDT
DTSTART:20240928T140000
END:DAYLIGHT
BEGIN:STANDARD
TZOFFSETFROM:+1300
TZOFFSETTO:+1200
TZNAME:NZST
DTSTART:20250405T140000
END:STANDARD
BEGIN:DAYLIGHT
TZOFFSETFROM:+1200
TZOFFSETTO:+1300
TZNAME:NZDT
DTSTART:20250927T140000
END:DAYLIGHT
BEGIN:STANDARD
TZOFFSETFROM:+1300
TZOFFSETTO:+1200
TZNAME:NZST
DTSTART:20260404T140000
END:STANDARD
BEGIN:DAYLIGHT
TZOFFSETFROM:+1200
TZOFFSETTO:+1300
TZNAME:NZDT
DTSTART:20260926T140000
END:DAYLIGHT
BEGIN:STANDARD
TZOFFSETFROM:+1300
TZOFFSETTO:+1200
TZNAME:NZST
DTSTART:20270403T140000
END:STANDARD
BEGIN:DAYLIGHT
TZOFFSETFROM:+1200
TZOFFSETTO:+1300
TZNAME:NZDT
DTSTART:20270925T140000
END:DAYLIGHT
END:VTIMEZONE
BEGIN:VEVENT
DTSTART;TZID=Pacific/Auckland:20251201T190000
DTEND;TZID=Pacific/Auckland:20251201T210000
DTSTAMP:20260420T124714
CREATED:20251109T200159Z
LAST-MODIFIED:20251201T060158Z
UID:10000084-1764615600-1764622800@www.afs.org.nz
SUMMARY:Host Family Orientation
DESCRIPTION:Link for Host Families to RSVP: https://calendly.com/info-newzealand/host-family-orientation
URL:https://www.afs.org.nz/calendar/host-family-orientation/
ORGANIZER;CN="amber.bevan@afs.org":MAILTO:amber.bevan@afs.org
END:VEVENT
BEGIN:VEVENT
DTSTART;VALUE=DATE:20251206
DTEND;VALUE=DATE:20251209
DTSTAMP:20260420T124714
CREATED:20250907T110616Z
LAST-MODIFIED:20251201T060159Z
UID:10000077-1764979200-1765238399@www.afs.org.nz
SUMMARY:Pre-Departure Orientation In Person
DESCRIPTION:For Sending Student’s on Trimester\, Semester and Year programmes\, leaving early 2026 – designed to prepare students for their upcoming travel abroad\, intercultural experience\, and development as active global citizens. \nIf you would like to volunteer for this orientation email amber.bevan@afs.org Training session provided
URL:https://www.afs.org.nz/calendar/pre-departure-orientation-in-person-2/
END:VEVENT
BEGIN:VEVENT
DTSTART;VALUE=DATE:20251207
DTEND;VALUE=DATE:20251209
DTSTAMP:20260420T124714
CREATED:20250907T110616Z
LAST-MODIFIED:20251201T060159Z
UID:10000078-1765065600-1765238399@www.afs.org.nz
SUMMARY:End of Stay Orientation In Person
DESCRIPTION:For our Hosted Students who will be flying to their home countries on the 7th of December – designed to help students reflect on their intercultural exchange experience\, and prepare for a smooth transition back home.  \nIf you would like to volunteer for this orientation email amber.bevan@afs.org Training session provided
URL:https://www.afs.org.nz/calendar/end-of-stay-orientation-in-person/
END:VEVENT
BEGIN:VEVENT
DTSTART;TZID=Pacific/Auckland:20251211T183000
DTEND;TZID=Pacific/Auckland:20251211T203000
DTSTAMP:20260420T124714
CREATED:20250913T174808Z
LAST-MODIFIED:20251209T175217Z
UID:10000079-1765477800-1765485000@www.afs.org.nz
SUMMARY:Sending Family Orientation
DESCRIPTION:This online orientation is to equip sending families to help their children face the intercultural challenges of their high school study abroad program in collaboration with AFS at both the sending and hosting destinations. \nIf you would like to volunteer for this orientation email amber.bevan@afs.org Training session provided
URL:https://www.afs.org.nz/calendar/sending-family-orientation-2/
END:VEVENT
BEGIN:VEVENT
DTSTART;TZID=Pacific/Auckland:20251217T190000
DTEND;TZID=Pacific/Auckland:20251217T210000
DTSTAMP:20260420T124714
CREATED:20251109T200212Z
LAST-MODIFIED:20251212T062751Z
UID:10000085-1765998000-1766005200@www.afs.org.nz
SUMMARY:Host Family Orientation
DESCRIPTION:Link for Hosting Families to RSVP: https://calendly.com/info-newzealand/host-family-orientation
URL:https://www.afs.org.nz/calendar/host-family-orientation-2/
ORGANIZER;CN="amber.bevan@afs.org":MAILTO:amber.bevan@afs.org
END:VEVENT
BEGIN:VEVENT
DTSTART;VALUE=DATE:20251224
DTEND;VALUE=DATE:20260107
DTSTAMP:20260420T124714
CREATED:20251005T081257Z
LAST-MODIFIED:20260103T044529Z
UID:10000080-1766534400-1767743999@www.afs.org.nz
SUMMARY:Office Closed
DESCRIPTION:
URL:https://www.afs.org.nz/calendar/office-closed/
END:VEVENT
END:VCALENDAR