BEGIN:VCALENDAR
VERSION:2.0
PRODID:-//New Zealand - ECPv6.15.9//NONSGML v1.0//EN
CALSCALE:GREGORIAN
METHOD:PUBLISH
X-WR-CALNAME:New Zealand
X-ORIGINAL-URL:https://www.afs.org.nz
X-WR-CALDESC:Events for New Zealand
REFRESH-INTERVAL;VALUE=DURATION:PT1H
X-Robots-Tag:noindex
X-PUBLISHED-TTL:PT1H
BEGIN:VTIMEZONE
TZID:Pacific/Auckland
BEGIN:STANDARD
TZOFFSETFROM:+1300
TZOFFSETTO:+1200
TZNAME:NZST
DTSTART:20240406T140000
END:STANDARD
BEGIN:DAYLIGHT
TZOFFSETFROM:+1200
TZOFFSETTO:+1300
TZNAME:NZDT
DTSTART:20240928T140000
END:DAYLIGHT
BEGIN:STANDARD
TZOFFSETFROM:+1300
TZOFFSETTO:+1200
TZNAME:NZST
DTSTART:20250405T140000
END:STANDARD
BEGIN:DAYLIGHT
TZOFFSETFROM:+1200
TZOFFSETTO:+1300
TZNAME:NZDT
DTSTART:20250927T140000
END:DAYLIGHT
BEGIN:STANDARD
TZOFFSETFROM:+1300
TZOFFSETTO:+1200
TZNAME:NZST
DTSTART:20260404T140000
END:STANDARD
BEGIN:DAYLIGHT
TZOFFSETFROM:+1200
TZOFFSETTO:+1300
TZNAME:NZDT
DTSTART:20260926T140000
END:DAYLIGHT
END:VTIMEZONE
BEGIN:VEVENT
DTSTART;VALUE=DATE:20251027
DTEND;VALUE=DATE:20251028
DTSTAMP:20260422T104657
CREATED:20250729T083517Z
LAST-MODIFIED:20251026T174905Z
UID:10000069-1761523200-1761609599@www.afs.org.nz
SUMMARY:NZL Office closed - Labour day\, National Holiday
DESCRIPTION:
URL:https://www.afs.org.nz/calendar/nzl-office-closed-labour-day-national-holiday/
END:VEVENT
BEGIN:VEVENT
DTSTART;TZID=Pacific/Auckland:20251102T173000
DTEND;TZID=Pacific/Auckland:20251102T203000
DTSTAMP:20260422T104657
CREATED:20250825T010327Z
LAST-MODIFIED:20251026T174906Z
UID:10000071-1762104600-1762115400@www.afs.org.nz
SUMMARY:Auckland Community Event
DESCRIPTION:
URL:https://www.afs.org.nz/calendar/auckland-community-event-2/
END:VEVENT
BEGIN:VEVENT
DTSTART;TZID=Pacific/Auckland:20251110T190000
DTEND;TZID=Pacific/Auckland:20251110T200000
DTSTAMP:20260422T104657
CREATED:20250816T161717Z
LAST-MODIFIED:20251109T200158Z
UID:10000070-1762801200-1762804800@www.afs.org.nz
SUMMARY:Buzz Zoom Meeting
DESCRIPTION:Join us for the last Buzz Session of the year! \nWe’ll be reviewing 2025 and look ahead to 2026. \nZoom link: https://us06web.zoom.us/j/87855481471 \nPlease RSVP to shirley.webb-speight@afs.org if you are planning to attend.
URL:https://www.afs.org.nz/calendar/buzz-zoom-meeting/
END:VEVENT
BEGIN:VEVENT
DTSTART;TZID=Pacific/Auckland:20251115T100000
DTEND;TZID=Pacific/Auckland:20251115T150000
DTSTAMP:20260422T104657
CREATED:20251109T200158Z
LAST-MODIFIED:20251113T200620Z
UID:10000082-1763200800-1763218800@www.afs.org.nz
SUMMARY:Rangitoto Excursion
DESCRIPTION:Calling All Auckland AFSers: Rangitoto Island ExcursionJay Wells from National Office is putting on his volunteer hat and organising a day-trip to Rangitoto Island for hosted students\, returnees and all other AFSers wanting to join the fun. \nSaturday\, 15 November 202510am – 3pm$60 per person (return ferry trip from Auckland) \nFor more info and to reserve your spot\, please contact jay.wells@afs.org by 5 November.
URL:https://www.afs.org.nz/calendar/rangitoto-excursion/
END:VEVENT
END:VCALENDAR