BEGIN:VCALENDAR
VERSION:2.0
PRODID:-//New Zealand - ECPv6.15.9//NONSGML v1.0//EN
CALSCALE:GREGORIAN
METHOD:PUBLISH
X-WR-CALNAME:New Zealand
X-ORIGINAL-URL:https://www.afs.org.nz
X-WR-CALDESC:Events for New Zealand
REFRESH-INTERVAL;VALUE=DURATION:PT1H
X-Robots-Tag:noindex
X-PUBLISHED-TTL:PT1H
BEGIN:VTIMEZONE
TZID:Pacific/Auckland
BEGIN:STANDARD
TZOFFSETFROM:+1300
TZOFFSETTO:+1200
TZNAME:NZST
DTSTART:20240406T140000
END:STANDARD
BEGIN:DAYLIGHT
TZOFFSETFROM:+1200
TZOFFSETTO:+1300
TZNAME:NZDT
DTSTART:20240928T140000
END:DAYLIGHT
BEGIN:STANDARD
TZOFFSETFROM:+1300
TZOFFSETTO:+1200
TZNAME:NZST
DTSTART:20250405T140000
END:STANDARD
BEGIN:DAYLIGHT
TZOFFSETFROM:+1200
TZOFFSETTO:+1300
TZNAME:NZDT
DTSTART:20250927T140000
END:DAYLIGHT
BEGIN:STANDARD
TZOFFSETFROM:+1300
TZOFFSETTO:+1200
TZNAME:NZST
DTSTART:20260404T140000
END:STANDARD
BEGIN:DAYLIGHT
TZOFFSETFROM:+1200
TZOFFSETTO:+1300
TZNAME:NZDT
DTSTART:20260926T140000
END:DAYLIGHT
END:VTIMEZONE
BEGIN:VEVENT
DTSTART;VALUE=DATE:20250517
DTEND;VALUE=DATE:20250518
DTSTAMP:20260422T144317
CREATED:20250329T000022Z
LAST-MODIFIED:20250415T125252Z
UID:10000013-1747440000-1747526399@www.afs.org.nz
SUMMARY:Volunteer event Auckland - Time TBC
DESCRIPTION:
URL:https://www.afs.org.nz/calendar/volunteer-event-auckland-time-tbc/
END:VEVENT
BEGIN:VEVENT
DTSTART;VALUE=DATE:20250515
DTEND;VALUE=DATE:20250516
DTSTAMP:20260422T144317
CREATED:20250513T153333Z
LAST-MODIFIED:20250515T210724Z
UID:10000039-1747267200-1747353599@www.afs.org.nz
SUMMARY:International Day of Families
DESCRIPTION:
URL:https://www.afs.org.nz/calendar/international-day-of-families/
END:VEVENT
BEGIN:VEVENT
DTSTART;VALUE=DATE:20250511
DTEND;VALUE=DATE:20250512
DTSTAMP:20260422T144317
CREATED:20250416T133456Z
LAST-MODIFIED:20250510T193655Z
UID:10000025-1746921600-1747007999@www.afs.org.nz
SUMMARY:Mother's Day
DESCRIPTION:
URL:https://www.afs.org.nz/calendar/mothers-day/
END:VEVENT
BEGIN:VEVENT
DTSTART;TZID=Pacific/Auckland:20250428T190000
DTEND;TZID=Pacific/Auckland:20250428T200000
DTSTAMP:20260422T144317
CREATED:20250416T133455Z
LAST-MODIFIED:20250427T183027Z
UID:10000024-1745866800-1745870400@www.afs.org.nz
SUMMARY:Buzz Session - Meet the Board Candidates
DESCRIPTION:Please join us for a Zoom meeting on Monday\, 28 April to meet the candidates standing for election for the AFS NZ Board at next month’s AGM. \nThis will be your chance to hear from the candidates directly\, hear their stories and what they hope to bring to the table\, and to ask any questions you may have. \nMonday\, 28 April 25\, 7pmZoom: https://us06web.zoom.us/j/87855481471 \nPlease email shirley.webb-speight@afs.org to let us know if you are planning to attend.
URL:https://www.afs.org.nz/calendar/buzz-session-meet-the-board-candidates/
END:VEVENT
BEGIN:VEVENT
DTSTART;VALUE=DATE:20250425
DTEND;VALUE=DATE:20250426
DTSTAMP:20260422T144317
CREATED:20250416T133455Z
LAST-MODIFIED:20250425T122222Z
UID:10000023-1745539200-1745625599@www.afs.org.nz
SUMMARY:NZL Office closed - ANZAC Day
DESCRIPTION:
URL:https://www.afs.org.nz/calendar/nzl-office-closed-anzac-day/
END:VEVENT
BEGIN:VEVENT
DTSTART;VALUE=DATE:20250418
DTEND;VALUE=DATE:20250422
DTSTAMP:20260422T144318
CREATED:20250329T000022Z
LAST-MODIFIED:20250421T084253Z
UID:10000012-1744934400-1745279999@www.afs.org.nz
SUMMARY:NZL Office closed - Easter Holidays\, National Holiday
DESCRIPTION:
URL:https://www.afs.org.nz/calendar/nzl-office-closed-easter-holidays-national-holiday/
END:VEVENT
BEGIN:VEVENT
DTSTART;VALUE=DATE:20250412
DTEND;VALUE=DATE:20250428
DTSTAMP:20260422T144318
CREATED:20250329T000022Z
LAST-MODIFIED:20250427T183027Z
UID:10000011-1744416000-1745798399@www.afs.org.nz
SUMMARY:April School Holidays
DESCRIPTION:
URL:https://www.afs.org.nz/calendar/april-school-holidays/
END:VEVENT
END:VCALENDAR