BEGIN:VCALENDAR
VERSION:2.0
PRODID:-//New Zealand - ECPv6.15.9//NONSGML v1.0//EN
CALSCALE:GREGORIAN
METHOD:PUBLISH
X-WR-CALNAME:New Zealand
X-ORIGINAL-URL:https://www.afs.org.nz
X-WR-CALDESC:Events for New Zealand
REFRESH-INTERVAL;VALUE=DURATION:PT1H
X-Robots-Tag:noindex
X-PUBLISHED-TTL:PT1H
BEGIN:VTIMEZONE
TZID:Pacific/Auckland
BEGIN:STANDARD
TZOFFSETFROM:+1300
TZOFFSETTO:+1200
TZNAME:NZST
DTSTART:20240406T140000
END:STANDARD
BEGIN:DAYLIGHT
TZOFFSETFROM:+1200
TZOFFSETTO:+1300
TZNAME:NZDT
DTSTART:20240928T140000
END:DAYLIGHT
BEGIN:STANDARD
TZOFFSETFROM:+1300
TZOFFSETTO:+1200
TZNAME:NZST
DTSTART:20250405T140000
END:STANDARD
BEGIN:DAYLIGHT
TZOFFSETFROM:+1200
TZOFFSETTO:+1300
TZNAME:NZDT
DTSTART:20250927T140000
END:DAYLIGHT
BEGIN:STANDARD
TZOFFSETFROM:+1300
TZOFFSETTO:+1200
TZNAME:NZST
DTSTART:20260404T140000
END:STANDARD
BEGIN:DAYLIGHT
TZOFFSETFROM:+1200
TZOFFSETTO:+1300
TZNAME:NZDT
DTSTART:20260926T140000
END:DAYLIGHT
END:VTIMEZONE
BEGIN:VEVENT
DTSTART;VALUE=DATE:20250714
DTEND;VALUE=DATE:20250719
DTSTAMP:20260421T161358
CREATED:20250415T125307Z
LAST-MODIFIED:20250415T125307Z
UID:10000022-1752451200-1752883199@www.afs.org.nz
SUMMARY:Whangarei Blitz
DESCRIPTION:
URL:https://www.afs.org.nz/calendar/whangarei-blitz/
END:VEVENT
BEGIN:VEVENT
DTSTART;TZID=Pacific/Auckland:20250718T193000
DTEND;TZID=Pacific/Auckland:20250718T213000
DTSTAMP:20260421T161358
CREATED:20250714T143733Z
LAST-MODIFIED:20250717T203918Z
UID:10000063-1752867000-1752874200@www.afs.org.nz
SUMMARY:Online Volunteer Exchange: India
DESCRIPTION:This virtual exchange will be a wonderful opportunity to interact with fellow volunteers and participants from across the Asia-Pacific region\, share cultural insights\, and strengthen our global AFS network. Your presence will add great value to this exchange\, and we highly encourage your active participation. India looks forward to welcoming you soon and sharing this vibrant journey together!  \nClick here to register
URL:https://www.afs.org.nz/calendar/online-volunteer-exchange-india/
END:VEVENT
END:VCALENDAR