BEGIN:VCALENDAR
VERSION:2.0
PRODID:-//New Zealand - ECPv6.15.9//NONSGML v1.0//EN
CALSCALE:GREGORIAN
METHOD:PUBLISH
X-WR-CALNAME:New Zealand
X-ORIGINAL-URL:https://www.afs.org.nz
X-WR-CALDESC:Events for New Zealand
REFRESH-INTERVAL;VALUE=DURATION:PT1H
X-Robots-Tag:noindex
X-PUBLISHED-TTL:PT1H
BEGIN:VTIMEZONE
TZID:Pacific/Auckland
BEGIN:STANDARD
TZOFFSETFROM:+1300
TZOFFSETTO:+1200
TZNAME:NZST
DTSTART:20240406T140000
END:STANDARD
BEGIN:DAYLIGHT
TZOFFSETFROM:+1200
TZOFFSETTO:+1300
TZNAME:NZDT
DTSTART:20240928T140000
END:DAYLIGHT
BEGIN:STANDARD
TZOFFSETFROM:+1300
TZOFFSETTO:+1200
TZNAME:NZST
DTSTART:20250405T140000
END:STANDARD
BEGIN:DAYLIGHT
TZOFFSETFROM:+1200
TZOFFSETTO:+1300
TZNAME:NZDT
DTSTART:20250927T140000
END:DAYLIGHT
BEGIN:STANDARD
TZOFFSETFROM:+1300
TZOFFSETTO:+1200
TZNAME:NZST
DTSTART:20260404T140000
END:STANDARD
BEGIN:DAYLIGHT
TZOFFSETFROM:+1200
TZOFFSETTO:+1300
TZNAME:NZDT
DTSTART:20260926T140000
END:DAYLIGHT
END:VTIMEZONE
BEGIN:VEVENT
DTSTART;VALUE=DATE:20250628
DTEND;VALUE=DATE:20250630
DTSTAMP:20260422T032307
CREATED:20250416T133510Z
LAST-MODIFIED:20250628T130253Z
UID:10000033-1751068800-1751241599@www.afs.org.nz
SUMMARY:Arrival Orientation In Person
DESCRIPTION:Trimester Students for Flagship programme\, designed to welcome students to their host country\, share logistical information and contact details about the local AFS organisation. \nIf you would like to volunteer for this orientation email amber.bevan@afs.org Training session provided
URL:https://www.afs.org.nz/calendar/hosted-student-arrival-orientation-in-person/
END:VEVENT
BEGIN:VEVENT
DTSTART;VALUE=DATE:20250628
DTEND;VALUE=DATE:20250701
DTSTAMP:20260422T032307
CREATED:20250405T013545Z
LAST-MODIFIED:20250415T125254Z
UID:10000020-1751068800-1751327999@www.afs.org.nz
SUMMARY:Departure camp (SMscSH25\, SMswSH25\, YPswNH24) & Trimester Arrival Camp
DESCRIPTION:
URL:https://www.afs.org.nz/calendar/departure-camp-smscsh25-smswsh25-ypswnh24-trimester-arrival-camp/
END:VEVENT
BEGIN:VEVENT
DTSTART;VALUE=DATE:20250628
DTEND;VALUE=DATE:20250714
DTSTAMP:20260422T032307
CREATED:20250405T013544Z
LAST-MODIFIED:20250712T133937Z
UID:10000019-1751068800-1752451199@www.afs.org.nz
SUMMARY:July School Holidays
DESCRIPTION:
URL:https://www.afs.org.nz/calendar/july-school-holidays/
END:VEVENT
END:VCALENDAR