BEGIN:VCALENDAR
VERSION:2.0
PRODID:-//New Zealand - ECPv6.15.9//NONSGML v1.0//EN
CALSCALE:GREGORIAN
METHOD:PUBLISH
X-WR-CALNAME:New Zealand
X-ORIGINAL-URL:https://www.afs.org.nz
X-WR-CALDESC:Events for New Zealand
REFRESH-INTERVAL;VALUE=DURATION:PT1H
X-Robots-Tag:noindex
X-PUBLISHED-TTL:PT1H
BEGIN:VTIMEZONE
TZID:Pacific/Auckland
BEGIN:STANDARD
TZOFFSETFROM:+1300
TZOFFSETTO:+1200
TZNAME:NZST
DTSTART:20240406T140000
END:STANDARD
BEGIN:DAYLIGHT
TZOFFSETFROM:+1200
TZOFFSETTO:+1300
TZNAME:NZDT
DTSTART:20240928T140000
END:DAYLIGHT
BEGIN:STANDARD
TZOFFSETFROM:+1300
TZOFFSETTO:+1200
TZNAME:NZST
DTSTART:20250405T140000
END:STANDARD
BEGIN:DAYLIGHT
TZOFFSETFROM:+1200
TZOFFSETTO:+1300
TZNAME:NZDT
DTSTART:20250927T140000
END:DAYLIGHT
BEGIN:STANDARD
TZOFFSETFROM:+1300
TZOFFSETTO:+1200
TZNAME:NZST
DTSTART:20260404T140000
END:STANDARD
BEGIN:DAYLIGHT
TZOFFSETFROM:+1200
TZOFFSETTO:+1300
TZNAME:NZDT
DTSTART:20260926T140000
END:DAYLIGHT
END:VTIMEZONE
BEGIN:VEVENT
DTSTART;VALUE=DATE:20250527
DTEND;VALUE=DATE:20250528
DTSTAMP:20260421T195953
CREATED:20250329T000023Z
LAST-MODIFIED:20250415T125252Z
UID:10000015-1748304000-1748390399@www.afs.org.nz
SUMMARY:Napier Career Expo
DESCRIPTION:https://docs.google.com/spreadsheets/d/1atTXmYuUKe2xVxjaPoV7mNfkXoD67hxerF7Txs3wgQQ/edit?gid=506575283#gid=506575283
URL:https://www.afs.org.nz/calendar/napier-career-expo/
END:VEVENT
END:VCALENDAR